BEGIN:VCALENDAR
VERSION:2.0
PRODID:-//ChamberMaster//Event Calendar 2.0//EN
METHOD:PUBLISH
X-PUBLISHED-TTL:P3D
REFRESH-INTERVAL:P3D
CALSCALE:GREGORIAN
BEGIN:VEVENT
DTSTART:20160429T170000Z
DTEND:20160429T230000Z
X-MICROSOFT-CDO-ALLDAYEVENT:FALSE
SUMMARY:Compassionate Care Charity Golf Tournament
DESCRIPTION:Registration start at noon\n\nShotgun starts at 1pm\n\n18 hole four-person scramble
X-ALT-DESC;FMTTYPE=text/html:Registration start at noon<br />\nShotgun starts at 1pm<br />\n18 hole four-person scramble
LOCATION:Bellville Golf & Recreation Club 2426 Hwy 36 North Bellville\, TX 77418 phone - (979) 865-9058 fax - (979) 865-5798
UID:e.2500.1493
SEQUENCE:3
DTSTAMP:20260424T174719Z
URL:https://business.bellville.com/events/details/compassionate-care-charity-golf-tournament-04-29-2016-1493
END:VEVENT

END:VCALENDAR
