BEGIN:VCALENDAR
VERSION:2.0
PRODID:-//ChamberMaster//Event Calendar 2.0//EN
METHOD:PUBLISH
X-PUBLISHED-TTL:P3D
REFRESH-INTERVAL:P3D
CALSCALE:GREGORIAN
BEGIN:VEVENT
DTSTART:20170422T140000Z
DTEND:20170422T170000Z
X-MICROSOFT-CDO-ALLDAYEVENT:FALSE
SUMMARY:Community Wide Shred on Site Day
DESCRIPTION:
X-ALT-DESC;FMTTYPE=text/html:
LOCATION:Austin County State Bank 436 S. Front St. Bellville\, TX 77418
UID:e.2500.3203
SEQUENCE:3
DTSTAMP:20260424T001837Z
URL:https://business.bellville.com/events/details/community-wide-shred-on-site-day-3203
END:VEVENT

END:VCALENDAR
