BEGIN:VCALENDAR
VERSION:2.0
PRODID:-//ChamberMaster//Event Calendar 2.0//EN
METHOD:PUBLISH
X-PUBLISHED-TTL:P3D
REFRESH-INTERVAL:P3D
CALSCALE:GREGORIAN
BEGIN:VEVENT
DTSTART:20180629T140000Z
DTEND:20180629T190000Z
X-MICROSOFT-CDO-ALLDAYEVENT:FALSE
SUMMARY:Community Garage Sale @ Coushatte Recreation Ranch
DESCRIPTION:
X-ALT-DESC;FMTTYPE=text/html:
LOCATION:2812 Nelius Bellville\, TX 77418
UID:e.2500.6882
SEQUENCE:3
DTSTAMP:20260423T014953Z
URL:https://business.bellville.com/events/details/community-garage-sale-coushatte-recreation-ranch-6882
END:VEVENT

END:VCALENDAR
