BEGIN:VCALENDAR
VERSION:2.0
PRODID:-//ChamberMaster//Event Calendar 2.0//EN
METHOD:PUBLISH
X-PUBLISHED-TTL:P3D
REFRESH-INTERVAL:P3D
CALSCALE:GREGORIAN
BEGIN:VEVENT
DTSTART:20170223T233000Z
DTEND:20170224T013000Z
X-MICROSOFT-CDO-ALLDAYEVENT:FALSE
SUMMARY:Community Dinner for Area Seniors
DESCRIPTION:
X-ALT-DESC;FMTTYPE=text/html:
LOCATION:Arbors of Briarwood Retirement Living 1517 W. Main Bellville\, TX 77418
UID:e.2500.3196
SEQUENCE:3
DTSTAMP:20260424T015844Z
URL:https://business.bellville.com/events/details/community-dinner-for-area-seniors-3196
END:VEVENT

END:VCALENDAR
