BEGIN:VCALENDAR
VERSION:2.0
PRODID:-//ChamberMaster//Event Calendar 2.0//EN
METHOD:PUBLISH
X-PUBLISHED-TTL:P3D
REFRESH-INTERVAL:P3D
CALSCALE:GREGORIAN
BEGIN:VEVENT
DTSTART:20180407T220000Z
DTEND:20180408T000000Z
X-MICROSOFT-CDO-ALLDAYEVENT:FALSE
SUMMARY:Community Core Bass Fishing Tournament
DESCRIPTION:Proceeds donated to Austin County Crime Stoppers
X-ALT-DESC;FMTTYPE=text/html:Proceeds donated to Austin County Crime Stoppers
LOCATION:
UID:e.2500.3761
SEQUENCE:3
DTSTAMP:20260423T033820Z
URL:https://business.bellville.com/events/details/community-core-bass-fishing-tournament-3761
END:VEVENT

END:VCALENDAR
