BEGIN:VCALENDAR
VERSION:2.0
PRODID:-//ChamberMaster//Event Calendar 2.0//EN
METHOD:PUBLISH
X-PUBLISHED-TTL:P3D
REFRESH-INTERVAL:P3D
CALSCALE:GREGORIAN
BEGIN:VEVENT
DTSTART:20170701T120000Z
DTEND:20170702T010000Z
X-MICROSOFT-CDO-ALLDAYEVENT:FALSE
SUMMARY:Community Core Bass Fishing Tournament
DESCRIPTION:Big Bass & 3 Bass Stringer\n\nWeigh in 5:00pm - 6:00pm @ Fairgrounds Music Stage (1076 East Hill\, Bellville\, TX 77418)\n\nAwards @ 7:00pm
X-ALT-DESC;FMTTYPE=text/html:Big Bass &amp\; 3 Bass Stringer<br />\nWeigh in 5:00pm - 6:00pm @ Fairgrounds Music Stage (1076 East Hill\, Bellville\, TX 77418)<br />\nAwards @ 7:00pm
LOCATION:Fish Anywhere.
UID:e.2500.3563
SEQUENCE:3
DTSTAMP:20260423T193055Z
URL:https://business.bellville.com/events/details/community-core-bass-fishing-tournament-3563
END:VEVENT

END:VCALENDAR
