BEGIN:VCALENDAR
VERSION:2.0
PRODID:-//ChamberMaster//Event Calendar 2.0//EN
METHOD:PUBLISH
X-PUBLISHED-TTL:P3D
REFRESH-INTERVAL:P3D
CALSCALE:GREGORIAN
BEGIN:VEVENT
DTSTART:20171021T150000Z
DTEND:20171021T170000Z
X-MICROSOFT-CDO-ALLDAYEVENT:FALSE
SUMMARY:Community C.O.R.E. Color 5K
DESCRIPTION:BENEFITING BELLVILLE VOLUNTEER FIRE DEPARTMENT\n\n \n\nRegister by 10/11/17 for a T-shirt\n\nLate registration the morning of the run from 9:00 AM - 9:45 AM
X-ALT-DESC;FMTTYPE=text/html:<div>BENEFITING BELLVILLE VOLUNTEER FIRE DEPARTMENT</div>\n\n<div>&nbsp\;</div>\n\n<div>Register by 10/11/17 for a T-shirt<br />\nLate registration the morning of the run from 9:00 AM&nbsp\;- 9:45 AM</div>\n\n<div>&nbsp\;</div>\n\n<div>&nbsp\;</div>\n
LOCATION:Run begins at Farm to Market Produce Company Join us after the run at Farm to Market Produce Company for Huff Brewing Co. beer and other refreshments and snacks
UID:e.2500.3629
SEQUENCE:3
DTSTAMP:20260423T124645Z
URL:https://business.bellville.com/events/details/community-c-o-r-e-color-5k-3629
END:VEVENT

END:VCALENDAR
