BEGIN:VCALENDAR
VERSION:2.0
PRODID:-//ChamberMaster//Event Calendar 2.0//EN
METHOD:PUBLISH
X-PUBLISHED-TTL:P3D
REFRESH-INTERVAL:P3D
CALSCALE:GREGORIAN
BEGIN:VEVENT
DTSTART:20161022T140000Z
DTEND:20161022T180000Z
X-MICROSOFT-CDO-ALLDAYEVENT:FALSE
SUMMARY:Community C.O.R.E. Color 5K
DESCRIPTION:Community C.O.R.E.       COLOR 5K\n\n\n\nBenefiting Bellville Volunteer Fire Dept.\n\n\n\nRegistration Fee - $25.00\n\nPlease try and register by October 14th for a FREE T-SHIRT.\n\nLate registration is 9:00 to 9:45 AM the morning of the event.
X-ALT-DESC;FMTTYPE=text/html:<strong>Community C.O.R.E.</strong>&nbsp\;&nbsp\;&nbsp\;&nbsp\;&nbsp\;&nbsp\; COLOR 5K<br />\n<br />\nBenefiting Bellville Volunteer Fire Dept.<br />\n<br />\n<u>Registration Fee</u> - $25.00<br />\nPlease try and register by October 14th for&nbsp\;a FREE T-SHIRT.<br />\nLate registration is 9:00 to 9:45 AM the morning of the event.<br />\n&nbsp\;
LOCATION:Run begins @ 10:00AM in rear parking lot of FNB of Bellville
UID:e.2500.1778
SEQUENCE:3
DTSTAMP:20260424T084136Z
URL:https://business.bellville.com/events/details/community-c-o-r-e-color-5k-1778
END:VEVENT

END:VCALENDAR
