BEGIN:VCALENDAR
VERSION:2.0
PRODID:-//ChamberMaster//Event Calendar 2.0//EN
METHOD:PUBLISH
X-PUBLISHED-TTL:P3D
REFRESH-INTERVAL:P3D
CALSCALE:GREGORIAN
BEGIN:VEVENT
DTSTART:20190411T200000Z
DTEND:20190412T000000Z
X-MICROSOFT-CDO-ALLDAYEVENT:FALSE
SUMMARY:Come and Go Meet the Candidates
DESCRIPTION:Come Meet & Greet the Belliville Mayoral & City Council Candidates!\n\nKid-friendly event/Kid activities will be provided.\n\nThe Farmhouse Kitchen will be serving meals inside Ruffus Pleasant for the Meet & Greet.  All are welcome.
X-ALT-DESC;FMTTYPE=text/html:Come Meet &amp\; Greet the Belliville Mayoral &amp\; City Council Candidates!<br />\nKid-friendly event/Kid activities will be provided.<br />\nThe Farmhouse Kitchen will be serving meals inside Ruffus Pleasant for the Meet &amp\; Greet.&nbsp\; All are welcome. &nbsp\;
LOCATION:Ruffus Pleasant (on the Bellville Square) 11 E Main Bellville TX 77418
UID:e.2500.7421
SEQUENCE:3
DTSTAMP:20260420T091043Z
URL:https://business.bellville.com/events/details/come-and-go-meet-the-candidates-7421
END:VEVENT

END:VCALENDAR
