BEGIN:VCALENDAR
VERSION:2.0
PRODID:-//ChamberMaster//Event Calendar 2.0//EN
METHOD:PUBLISH
X-PUBLISHED-TTL:P3D
REFRESH-INTERVAL:P3D
CALSCALE:GREGORIAN
BEGIN:VEVENT
DTSTART:20170812T220000Z
DTEND:20170813T030000Z
X-MICROSOFT-CDO-ALLDAYEVENT:FALSE
SUMMARY:Cody Leger Benefit
DESCRIPTION:To help the Leger Family with medical expenses
X-ALT-DESC;FMTTYPE=text/html:To help the Leger Family with medical expenses
LOCATION:American Legion Hall 1630 Meyer St Sealy TX
UID:e.2500.3577
SEQUENCE:3
DTSTAMP:20260423T161717Z
URL:https://business.bellville.com/events/details/cody-leger-benefit-3577
END:VEVENT

END:VCALENDAR
