BEGIN:VCALENDAR
VERSION:2.0
PRODID:-//ChamberMaster//Event Calendar 2.0//EN
METHOD:PUBLISH
X-PUBLISHED-TTL:P3D
REFRESH-INTERVAL:P3D
CALSCALE:GREGORIAN
BEGIN:VEVENT
DTSTART:20181017T150000Z
DTEND:20181017T230000Z
X-MICROSOFT-CDO-ALLDAYEVENT:FALSE
SUMMARY:Coco & Duckie Fall Trunk Show
DESCRIPTION:FALL TRUNK SHOW\n\nOCTOBER 17-27
X-ALT-DESC;FMTTYPE=text/html:FALL TRUNK SHOW<br />\nOCTOBER 17-27
LOCATION:
UID:e.2500.6956
SEQUENCE:3
DTSTAMP:20260422T185607Z
URL:https://business.bellville.com/events/details/coco-duckie-fall-trunk-show-6956
END:VEVENT

END:VCALENDAR
