BEGIN:VCALENDAR
VERSION:2.0
PRODID:-//ChamberMaster//Event Calendar 2.0//EN
METHOD:PUBLISH
X-PUBLISHED-TTL:P3D
REFRESH-INTERVAL:P3D
CALSCALE:GREGORIAN
BEGIN:VEVENT
DTSTART:20160427T000000Z
DTEND:20160427T013000Z
X-MICROSOFT-CDO-ALLDAYEVENT:FALSE
SUMMARY:City Council Candidate Forum\, Sponsored by the Bellville Chamber of Commerce
DESCRIPTION:Come meet and listen to the candidates running for City Council
X-ALT-DESC;FMTTYPE=text/html:Come meet and listen to the candidates running for City Council
LOCATION:Faith Academy Gym in Bellville
UID:e.2500.1496
SEQUENCE:3
DTSTAMP:20260424T175049Z
URL:https://business.bellville.com/events/details/city-council-candidate-forum-sponsored-by-the-bellville-chamber-of-commerce-04-26-2016-1496
END:VEVENT

END:VCALENDAR
