BEGIN:VCALENDAR
VERSION:2.0
PRODID:-//ChamberMaster//Event Calendar 2.0//EN
METHOD:PUBLISH
X-PUBLISHED-TTL:P3D
REFRESH-INTERVAL:P3D
CALSCALE:GREGORIAN
BEGIN:VEVENT
DTSTART:20161210T180000Z
DTEND:20161210T220000Z
X-MICROSOFT-CDO-ALLDAYEVENT:FALSE
SUMMARY:Christmas at Winedale
DESCRIPTION:The Briscoe Center Presents Christmas at Winedale ROUND TOP\, Texas   "Christmas at Winedale" is Saturday\, December 10\, 2016\, from noon to 4 p.m. Admission is free and all are welcome. Food and refreshments will be available for sale. Visitors can tour period-furnished historic Texas homes\, emjoy theatre performances and watch folk life presentations\, as well as demonstrations of blacksmithing\, woodworking\, folk dancing\, lace making\, and pioneer encampment. For children there will be old-fashioned crafts and games\, a petting zoo\, and even a Weihnachtsmann (German Santa Claus)!. Amid folk life presentations and theatrical performances\, you might even see! Featured musical entertainment will include The German Singers and the Celtaire String Band. Winedale Historical Complex is located four miles northeast of Round Top\, Texas\, at 3738 FM 2714 (off FM 1457). Directions and Maps. For more information call (979) 278-3530 or email winedale@austin.utexas.edu. The Winedale Historical Complex is a division of the Dolph Briscoe Center for American History at The University of Texas at Austin. Miss Ima Hogg\, philanthropist and donor of the property\, envisioned Winedale as a "laboratory for college students to explore many fields associated with the history and culture of ethnic groups who migrated to Texas." Winedale offers a tangible link to the Texas past through its architecture and decorative arts collections\, as well as the documented histories of its buildings\, owners\, and occupants. Over the last decade\, the Briscoe Center has funded and managed a number of major projects to preserve the historic buildings and other facilities at Winedale. The center is grateful for the advocacy and fundraising of the Friends of Winedale.
X-ALT-DESC;FMTTYPE=text/html:The Briscoe Center Presents Christmas at Winedale ROUND TOP\, Texas &mdash\; &ldquo\;Christmas at Winedale&rdquo\; is Saturday\, December 10\, 2016\, from noon to 4 p.m. Admission is free and all are welcome. Food and refreshments will be available for sale. Visitors can tour period-furnished historic Texas homes\, emjoy theatre performances and watch folk life presentations\, as well as demonstrations of blacksmithing\, woodworking\, folk dancing\, lace making\, and pioneer encampment. For children there will be old-fashioned crafts and games\, a petting zoo\, and even a Weihnachtsmann (German Santa Claus)!. Amid folk life presentations and theatrical performances\, you might even see! Featured musical entertainment will include The German Singers and the Celtaire String Band. Winedale Historical Complex is located four miles northeast of Round Top\, Texas\, at 3738 FM 2714 (off FM 1457). Directions and Maps. For more information call (979) 278-3530 or email winedale@austin.utexas.edu. The Winedale Historical Complex is a division of the Dolph Briscoe Center for American History at The University of Texas at Austin. Miss Ima Hogg\, philanthropist and donor of the property\, envisioned Winedale as a &quot\;laboratory for college students to explore many fields associated with the history and culture of ethnic groups who migrated to Texas.&quot\; Winedale offers a tangible link to the Texas past through its architecture and decorative arts collections\, as well as the documented histories of its buildings\, owners\, and occupants. Over the last decade\, the Briscoe Center has funded and managed a number of major projects to preserve the historic buildings and other facilities at Winedale. The center is grateful for the advocacy and fundraising of the Friends of Winedale.
LOCATION:
UID:e.2500.3135
SEQUENCE:3
DTSTAMP:20260424T052953Z
URL:https://business.bellville.com/events/details/christmas-at-winedale-3135
END:VEVENT

END:VCALENDAR
