BEGIN:VCALENDAR
VERSION:2.0
PRODID:-//ChamberMaster//Event Calendar 2.0//EN
METHOD:PUBLISH
X-PUBLISHED-TTL:P3D
REFRESH-INTERVAL:P3D
CALSCALE:GREGORIAN
BEGIN:VEVENT
DTSTART:20181027T223000Z
DTEND:20181028T013000Z
X-MICROSOFT-CDO-ALLDAYEVENT:FALSE
SUMMARY:Christ in Unity
DESCRIPTION:
X-ALT-DESC;FMTTYPE=text/html:
LOCATION:Austin County Fair Expo 1076 Hwy 159 E Bellville TX 77418
UID:e.2500.6969
SEQUENCE:3
DTSTAMP:20260422T185519Z
URL:https://business.bellville.com/events/details/christ-in-unity-6969
END:VEVENT

END:VCALENDAR
