BEGIN:VCALENDAR
VERSION:2.0
PRODID:-//ChamberMaster//Event Calendar 2.0//EN
METHOD:PUBLISH
X-PUBLISHED-TTL:P3D
REFRESH-INTERVAL:P3D
CALSCALE:GREGORIAN
BEGIN:VEVENT
DTSTART;VALUE=DATE:20190406
DTEND;VALUE=DATE:20190407
TRANSP:TRANSPARENT
X-MICROSOFT-CDO-ALLDAYEVENT:TRUE
SUMMARY:Chili Dip - Chili and Bean Cook Off
DESCRIPTION:Entry deadline is Friday April 5th 2019
X-ALT-DESC;FMTTYPE=text/html:Entry deadline is Friday April 5th 2019
LOCATION:Bellville Golf Course
UID:e.2500.7416
SEQUENCE:3
DTSTAMP:20260420T085236Z
URL:https://business.bellville.com/events/details/chili-dip-chili-and-bean-cook-off-7416
END:VEVENT

END:VCALENDAR
