BEGIN:VCALENDAR
VERSION:2.0
PRODID:-//ChamberMaster//Event Calendar 2.0//EN
METHOD:PUBLISH
X-PUBLISHED-TTL:P3D
REFRESH-INTERVAL:P3D
CALSCALE:GREGORIAN
BEGIN:VEVENT
DTSTART:20180324T160000Z
DTEND:20180324T220000Z
X-MICROSOFT-CDO-ALLDAYEVENT:FALSE
SUMMARY:Chili Dip - Chili and Bean Cook Off
DESCRIPTION:
X-ALT-DESC;FMTTYPE=text/html:
LOCATION:Bellville Golf and Recreation Club
UID:e.2500.3756
SEQUENCE:3
DTSTAMP:20260423T053149Z
URL:https://business.bellville.com/events/details/chili-dip-chili-and-bean-cook-off-3756
END:VEVENT

END:VCALENDAR
