BEGIN:VCALENDAR
VERSION:2.0
PRODID:-//ChamberMaster//Event Calendar 2.0//EN
METHOD:PUBLISH
X-PUBLISHED-TTL:P3D
REFRESH-INTERVAL:P3D
CALSCALE:GREGORIAN
BEGIN:VEVENT
DTSTART;VALUE=DATE:20260425
DTEND;VALUE=DATE:20260426
TRANSP:TRANSPARENT
X-MICROSOFT-CDO-ALLDAYEVENT:TRUE
SUMMARY:CHILDRENS BOOK SIGNING AND READING
DESCRIPTION:CHILDRENS BOOK SIGNING AND READING
X-ALT-DESC;FMTTYPE=text/html:CHILDRENS BOOK SIGNING AND READING
LOCATION:HERMANN FURNITURE & EMPORIUM 213 W. ALAMO STREET BRENHAM\, TEXAS. 77833 979-836-7231
UID:e.2500.13887
SEQUENCE:3
DTSTAMP:20260421T003753Z
URL:https://business.bellville.com/events/details/childrens-book-signing-and-reading-13887
END:VEVENT

END:VCALENDAR
