BEGIN:VCALENDAR
VERSION:2.0
PRODID:-//ChamberMaster//Event Calendar 2.0//EN
METHOD:PUBLISH
X-PUBLISHED-TTL:P3D
REFRESH-INTERVAL:P3D
CALSCALE:GREGORIAN
BEGIN:VEVENT
DTSTART:20171026T220000Z
DTEND:20171027T000000Z
X-MICROSOFT-CDO-ALLDAYEVENT:FALSE
SUMMARY:Chick-Fil-A Drive Thru at Bellville Young Life
DESCRIPTION:Supporting Bellville Project Graduation
X-ALT-DESC;FMTTYPE=text/html:Supporting Bellville Project Graduation
LOCATION:
UID:e.2500.3656
SEQUENCE:3
DTSTAMP:20260423T125523Z
URL:https://business.bellville.com/events/details/chick-fil-a-drive-thru-at-bellville-young-life-3656
END:VEVENT

END:VCALENDAR
