BEGIN:VCALENDAR
VERSION:2.0
PRODID:-//ChamberMaster//Event Calendar 2.0//EN
METHOD:PUBLISH
X-PUBLISHED-TTL:P3D
REFRESH-INTERVAL:P3D
CALSCALE:GREGORIAN
BEGIN:VEVENT
DTSTART:20181024T130000Z
DTEND:20181024T150000Z
X-MICROSOFT-CDO-ALLDAYEVENT:FALSE
SUMMARY:CHI St Joseph Health Fair
DESCRIPTION:
X-ALT-DESC;FMTTYPE=text/html:
LOCATION:44 N Cummings St Bellville TX 77418
UID:e.2500.6966
SEQUENCE:3
DTSTAMP:20260422T172110Z
URL:https://business.bellville.com/events/details/chi-st-joseph-health-fair-6966
END:VEVENT

END:VCALENDAR
