BEGIN:VCALENDAR
VERSION:2.0
PRODID:-//ChamberMaster//Event Calendar 2.0//EN
METHOD:PUBLISH
X-PUBLISHED-TTL:P3D
REFRESH-INTERVAL:P3D
CALSCALE:GREGORIAN
BEGIN:VEVENT
DTSTART:20180412T140000Z
DTEND:20180412T223000Z
X-MICROSOFT-CDO-ALLDAYEVENT:FALSE
SUMMARY:CHARM Resilency Workshop
DESCRIPTION:
X-ALT-DESC;FMTTYPE=text/html:
LOCATION:Bellville Volunteer Fire Department
UID:e.2500.5851
SEQUENCE:3
DTSTAMP:20260423T033234Z
URL:https://business.bellville.com/events/details/charm-resilency-workshop-5851
END:VEVENT

END:VCALENDAR
