BEGIN:VCALENDAR
VERSION:2.0
PRODID:-//ChamberMaster//Event Calendar 2.0//EN
METHOD:PUBLISH
X-PUBLISHED-TTL:P3D
REFRESH-INTERVAL:P3D
CALSCALE:GREGORIAN
BEGIN:VEVENT
DTSTART:20160503T173000Z
DTEND:20160503T183000Z
X-MICROSOFT-CDO-ALLDAYEVENT:FALSE
SUMMARY:Chamber/EDC/City Meeting
DESCRIPTION:
X-ALT-DESC;FMTTYPE=text/html:
LOCATION:
UID:e.2500.1498
SEQUENCE:3
DTSTAMP:20260424T160320Z
URL:https://business.bellville.com/events/details/chamber-edc-city-meeting-05-03-2016-1498
END:VEVENT

END:VCALENDAR
