BEGIN:VCALENDAR
VERSION:2.0
PRODID:-//ChamberMaster//Event Calendar 2.0//EN
METHOD:PUBLISH
X-PUBLISHED-TTL:P3D
REFRESH-INTERVAL:P3D
CALSCALE:GREGORIAN
BEGIN:VEVENT
DTSTART:20181011T150000Z
DTEND:20181011T180000Z
X-MICROSOFT-CDO-ALLDAYEVENT:FALSE
SUMMARY:Chamber Chick-Fil-A Day at the Austin County Fair Parade
DESCRIPTION:The Bellville Chamber of Commerce will be hosting our very first Chick-Fil-A Day at the Austin County Fair.
X-ALT-DESC;FMTTYPE=text/html:The Bellville Chamber of Commerce will be hosting&nbsp\;our very first&nbsp\;Chick-Fil-A Day at the Austin County Fair.
LOCATION:Ruffus Pleasant 11 E Main St Bellville TX 77418
UID:e.2500.6959
SEQUENCE:3
DTSTAMP:20260422T172603Z
URL:https://business.bellville.com/events/details/chamber-chick-fil-a-day-at-the-austin-county-fair-parade-6959
END:VEVENT

END:VCALENDAR
