BEGIN:VCALENDAR
VERSION:2.0
PRODID:-//ChamberMaster//Event Calendar 2.0//EN
METHOD:PUBLISH
X-PUBLISHED-TTL:P3D
REFRESH-INTERVAL:P3D
CALSCALE:GREGORIAN
BEGIN:VEVENT
DTSTART:20181220T220000Z
DTEND:20181221T000000Z
X-MICROSOFT-CDO-ALLDAYEVENT:FALSE
SUMMARY:Center Stage Dance Studio & Fitness Ribbon Cutting and Santa
DESCRIPTION:
X-ALT-DESC;FMTTYPE=text/html:
LOCATION:
UID:e.2500.7019
SEQUENCE:3
DTSTAMP:20260422T140046Z
URL:https://business.bellville.com/events/details/center-stage-dance-studio-fitness-ribbon-cutting-and-santa-7019
END:VEVENT

END:VCALENDAR
