BEGIN:VCALENDAR
VERSION:2.0
PRODID:-//ChamberMaster//Event Calendar 2.0//EN
METHOD:PUBLISH
X-PUBLISHED-TTL:P3D
REFRESH-INTERVAL:P3D
CALSCALE:GREGORIAN
BEGIN:VEVENT
DTSTART:20180106T193000Z
DTEND:20180106T233000Z
X-MICROSOFT-CDO-ALLDAYEVENT:FALSE
SUMMARY:Celtic Roots & Cowboy Boots
DESCRIPTION:"CELTIC ROOTS & COWBOY BOOTS"\n\nfeaturing:\n\nJed Marum & Hugh Morrison of "Lonestar Stout"\n\nSia Beaton\, singer/songwriter\, & Richard Kean\, bagpiper\n\n \n\nFundraiser for the Bellville Turnverein Restoration Project\n\n \n\nDate: Jan. 6\, 2018\n\nTimes: 1:30 to 5:30 pm\n\nLocation:  Bellville Turnverein Pavilion\n\n966 E. Main St\n\nBellville\, TX 77418\n\n \n\nTickets: $20 (children 12 and under free)
X-ALT-DESC;FMTTYPE=text/html:<div>\n<div style="text-align: center\;"><span style="font-family: timesnewromanpsmt\; font-size: 18px\;">&quot\;CELTIC ROOTS &amp\; COWBOY BOOTS&quot\;</span></div>\n\n<div style="text-align: center\;"><span style="font-family: timesnewromanpsmt\; font-size: 18px\;">featuring:</span></div>\n\n<div style="text-align: center\;"><span style="font-family: timesnewromanpsmt\; font-size: 18px\;">Jed Marum &amp\; Hugh Morrison of &ldquo\;Lonestar Stout&rdquo\;</span></div>\n\n<div style="text-align: center\;"><span style="font-family: timesnewromanpsmt\; font-size: 18px\;">Sia Beaton\, singer/songwriter\, &amp\; Richard Kean\, bagpiper</span></div>\n\n<div style="text-align: center\;">&nbsp\;</div>\n\n<div style="text-align: center\;"><span style="font-family: timesnewromanpsmt\; font-size: 18px\;">Fundraiser for the Bellville Turnverein Restoration Project</span></div>\n\n<div style="text-align: center\;">&nbsp\;</div>\n\n<div style="text-align: center\;"><span style="font-family: timesnewromanpsmt\; font-size: 18px\;">Date: Jan. 6\, 2018</span></div>\n\n<div style="text-align: center\;"><span style="font-family: timesnewromanpsmt\; font-size: 18px\;">Times: 1:30 to 5:30 pm</span></div>\n\n<div style="text-align: center\;"><span style="font-family: timesnewromanpsmt\; font-size: 18px\;">Location: &nbsp\;Bellville Turnverein Pavilion</span></div>\n\n<div style="text-align: center\;"><span style="font-family: timesnewromanpsmt\; font-size: 18px\;">966 E. Main St</span></div>\n\n<div style="text-align: center\;"><span style="font-family: timesnewromanpsmt\; font-size: 18px\;">Bellville\, TX 77418</span></div>\n\n<div style="text-align: center\;">&nbsp\;</div>\n\n<div style="text-align: center\;">Tickets: $20 (children 12 and under free)</div>\n</div>\n
LOCATION:Bellville Turnverein Pavilion 966 E. Main St Bellville\, TX 77418
UID:e.2500.3697
SEQUENCE:3
DTSTAMP:20260423T101902Z
URL:https://business.bellville.com/events/details/celtic-roots-cowboy-boots-3697
END:VEVENT

END:VCALENDAR
