BEGIN:VCALENDAR
VERSION:2.0
PRODID:-//ChamberMaster//Event Calendar 2.0//EN
METHOD:PUBLISH
X-PUBLISHED-TTL:P3D
REFRESH-INTERVAL:P3D
CALSCALE:GREGORIAN
BEGIN:VEVENT
DTSTART:20180318T003000Z
DTEND:20180318T043000Z
X-MICROSOFT-CDO-ALLDAYEVENT:FALSE
SUMMARY:Cat Spring Hall Community Dance
DESCRIPTION:Music by Country Legacy\n\nHamburgers\n\nBeer\n\nSodas
X-ALT-DESC;FMTTYPE=text/html:Music by Country Legacy<br />\nHamburgers<br />\nBeer<br />\nSodas
LOCATION:
UID:e.2500.3751
SEQUENCE:3
DTSTAMP:20260423T052911Z
URL:https://business.bellville.com/events/details/cat-spring-hall-community-dance-3751
END:VEVENT

END:VCALENDAR
