BEGIN:VCALENDAR
VERSION:2.0
PRODID:-//ChamberMaster//Event Calendar 2.0//EN
METHOD:PUBLISH
X-PUBLISHED-TTL:P3D
REFRESH-INTERVAL:P3D
CALSCALE:GREGORIAN
BEGIN:VEVENT
DTSTART:20180421T220000Z
DTEND:20180422T030000Z
X-MICROSOFT-CDO-ALLDAYEVENT:FALSE
SUMMARY:Cat Spring Fire Department Bar-B-Q and Auction
DESCRIPTION:
X-ALT-DESC;FMTTYPE=text/html:
LOCATION:Cat Spring Agricultural Society Hall
UID:e.2500.3367
SEQUENCE:3
DTSTAMP:20260423T033609Z
URL:https://business.bellville.com/events/details/cat-spring-fire-department-bar-b-q-and-auction-3367
END:VEVENT

END:VCALENDAR
