BEGIN:VCALENDAR
VERSION:2.0
PRODID:-//ChamberMaster//Event Calendar 2.0//EN
METHOD:PUBLISH
X-PUBLISHED-TTL:P3D
REFRESH-INTERVAL:P3D
CALSCALE:GREGORIAN
BEGIN:VEVENT
DTSTART:20170205T000000Z
DTEND:20170205T040000Z
X-MICROSOFT-CDO-ALLDAYEVENT:FALSE
SUMMARY:Casino Night and Dinner - CASA for Kids
DESCRIPTION:For an exciting evening of dinner and gaming\, join us for our annual Casino Night & Dinner on Saturday\, February 4th from 6 to 10 pm at the Austin County Fairgrounds. Your $60 entry fee brings you dinner and dessert catered by Yani's Steakhouse\, a beverage mug for the evening\, and $10\,000 in CASA BUCKS for gaming!  \n\nThere will be lots of winners ... door prizes\, raffles\, a silent auction and you can spend your CASA BUCKS at the end of the evening on some amazing prizes.  BUT because of you\, THE BIGGEST WINNERS WILL BE THE CHILDREN WE SERVE!  Your support helps the mission of our program in the training and supervision of our CASAs   Court Appointed Special Advocates. \n\nWe are appointed to 100% of the cases of children in CPS custody in the 4 counties we serve - Austin\, Colorado\, Waller and Washington.  Our goal is to have a CASA for each and every child\; and with generous individuals like you\, who understand the difference a CASA can make in the life of a child\, every day we get closer to that goal. Research shows that children with CASA volunteers are substantially less likely to spend time in long-term foster care\, more likely to be adopted\, and half as likely to re-enter foster care. The child in foster care who has a CASA has the prospect of a brighter future than the child who does not.\n\nThrough November 2016\, we have served 175 children.  Our amazing advocates have spent almost 3\,000 volunteer hours and have driven over 40\,000 miles to serve the children in our community. \n\nThe tickets go fast\, so plan to get yours soon!  You can stop by the CASA office in Brenham at 2309 S. Day Street or for additional locations please check out the poster or visit wespeak4kids.org.\n\nPlease call CASA for Kids at 979-277-0088 for more information.\n\nWe look forward to seeing you February 4th at the Austin County Fairgrounds\, and as always thank you for your continued support!
X-ALT-DESC;FMTTYPE=text/html:For an exciting evening of dinner and gaming\, join us for our annual Casino Night &amp\; Dinner&nbsp\;on Saturday\, February&nbsp\;4th from 6 to 10 pm at the Austin County Fairgrounds. Your $60 entry fee brings you dinner and dessert catered by Yani&rsquo\;s Steakhouse\, a beverage mug for the evening\,&nbsp\;and $10\,000 in CASA BUCKS for&nbsp\;gaming!&nbsp\;&nbsp\;<br />\nThere will be lots of winners&nbsp\;... door prizes\, raffles\, a silent auction and you can spend your CASA BUCKS at the end of the evening on some amazing prizes.&nbsp\; BUT because of you\, THE BIGGEST WINNERS WILL BE THE CHILDREN WE SERVE!&nbsp\;&nbsp\;Your support&nbsp\;helps&nbsp\;the mission of our program in the training and supervision of our CASAs &ndash\; Court Appointed Special Advocates.&nbsp\;<br />\nWe are appointed to 100% of the cases of children in CPS custody in&nbsp\;the 4&nbsp\;counties we serve -&nbsp\;Austin\, Colorado\, Waller and Washington.&nbsp\;&nbsp\;Our goal is to&nbsp\;have a CASA for each and every child\; and with&nbsp\;generous individuals like you\, who&nbsp\;understand the difference a CASA can make in the life of a child\, every day we get closer to that goal. Research shows that children with CASA volunteers are substantially less likely to spend time in long-term foster care\, more likely to be adopted\, and half as likely to re-enter foster care. The child in foster care who has a CASA has the prospect of a brighter future than the child who does not.<br />\nThrough November 2016\, we have served 175 children.&nbsp\; Our amazing advocates have spent almost 3\,000 volunteer hours and have driven over 40\,000 miles to serve the children in our community.&nbsp\;<br />\nThe tickets go fast\, so plan to get yours soon!&nbsp\; You can stop by the CASA office in Brenham at&nbsp\;2309 S. Day Street or&nbsp\;for additional locations please check out the&nbsp\;poster or visit wespeak4kids.org.<br />\nPlease call CASA for Kids at 979-277-0088 for more information.<br />\nWe look forward to seeing you February&nbsp\;4th at the Austin County Fairgrounds\, and as always thank you for your continued support! &nbsp\;
LOCATION:Austin County Fairgrounds 1076 East Hill Bellville\, Texas 77418
UID:e.2500.3147
SEQUENCE:3
DTSTAMP:20260424T020157Z
URL:https://business.bellville.com/events/details/casino-night-and-dinner-casa-for-kids-3147
END:VEVENT

END:VCALENDAR
