BEGIN:VCALENDAR
VERSION:2.0
PRODID:-//ChamberMaster//Event Calendar 2.0//EN
METHOD:PUBLISH
X-PUBLISHED-TTL:P3D
REFRESH-INTERVAL:P3D
CALSCALE:GREGORIAN
BEGIN:VEVENT
DTSTART:20190203T000000Z
DTEND:20190203T040000Z
X-MICROSOFT-CDO-ALLDAYEVENT:FALSE
SUMMARY:CASA'S ANNUAL CASINO NIGHT
DESCRIPTION:SAVE THE DATE FOR CASA'S ANNUAL CASINO NIGHT! \n\nSeeking Sponsors & Donors\n\nGroup & Individual Tickets Available\n\nDetails Coming Soon!
X-ALT-DESC;FMTTYPE=text/html:<div style="text-align: center\;">SAVE THE DATE FOR CASA&#39\;S ANNUAL CASINO NIGHT!&nbsp\;<br />\nSeeking Sponsors &amp\; Donors<br />\nGroup &amp\; Individual Tickets Available<br />\nDetails Coming Soon!&nbsp\;</div>\n
LOCATION:AUSTIN COUNTY EXPO CENTER 1076 Hwy 159 E. Bellville\, TX 77418
UID:e.2500.6952
SEQUENCE:3
DTSTAMP:20260422T104535Z
URL:https://business.bellville.com/events/details/casa-s-annual-casino-night-6952
END:VEVENT

END:VCALENDAR
