BEGIN:VCALENDAR
VERSION:2.0
PRODID:-//ChamberMaster//Event Calendar 2.0//EN
METHOD:PUBLISH
X-PUBLISHED-TTL:P3D
REFRESH-INTERVAL:P3D
CALSCALE:GREGORIAN
BEGIN:VEVENT
DTSTART:20161219T220000Z
DTEND:20161220T000000Z
X-MICROSOFT-CDO-ALLDAYEVENT:FALSE
SUMMARY:CASA Jingle Bell Mingle
DESCRIPTION:You are Invited ... to join us for some appetizers and cocktails\, and for some Holiday fellowship!\n\nYou are Invited ... to learn more about CASA for Kids and how we can partner to help the children in our community!\n\nTogether we can make the difference!
X-ALT-DESC;FMTTYPE=text/html:<p>You are Invited ...&nbsp\;to join us for some appetizers&nbsp\;and cocktails\, and for some Holiday fellowship!</p>\n\n<p>You are Invited ... to learn more about CASA for Kids and how&nbsp\;we can partner to&nbsp\;help the children in our community!</p>\n\n<p>Together we can make&nbsp\;the difference!</p>\n
LOCATION:CASA for Kids Office 2309 S. Day Street in Brenham Across from Sonic
UID:e.2500.3167
SEQUENCE:3
DTSTAMP:20260424T052114Z
URL:https://business.bellville.com/events/details/casa-jingle-bell-mingle-3167
END:VEVENT

END:VCALENDAR
