BEGIN:VCALENDAR
VERSION:2.0
PRODID:-//ChamberMaster//Event Calendar 2.0//EN
METHOD:PUBLISH
X-PUBLISHED-TTL:P3D
REFRESH-INTERVAL:P3D
CALSCALE:GREGORIAN
BEGIN:VEVENT
DTSTART:20160409T150000Z
DTEND:20160409T190000Z
X-MICROSOFT-CDO-ALLDAYEVENT:FALSE
SUMMARY:Casa Day for Kids
DESCRIPTION:Free Hot Dogs\n\nFree Face Painting
X-ALT-DESC;FMTTYPE=text/html:Free Hot Dogs<br />\nFree Face Painting
LOCATION:Casa for Kids 2309 South Day Brenham\, Texas 77833
UID:e.2500.1485
SEQUENCE:3
DTSTAMP:20260424T174033Z
URL:https://business.bellville.com/events/details/casa-day-for-kids-04-09-2016-1485
END:VEVENT

END:VCALENDAR
