BEGIN:VCALENDAR
VERSION:2.0
PRODID:-//ChamberMaster//Event Calendar 2.0//EN
METHOD:PUBLISH
X-PUBLISHED-TTL:P3D
REFRESH-INTERVAL:P3D
CALSCALE:GREGORIAN
BEGIN:VEVENT
DTSTART:20160914T220000Z
DTEND:20160915T000000Z
X-MICROSOFT-CDO-ALLDAYEVENT:FALSE
SUMMARY:CANCELLED - Networking Night Out
DESCRIPTION:DUE TO LACK OF PARTICIPATION THE NETWORKING NIGHT OUT HAS BEEN CANCELLED
X-ALT-DESC;FMTTYPE=text/html:DUE TO LACK OF PARTICIPATION THE NETWORKING NIGHT OUT HAS BEEN CANCELLED
LOCATION:Bellville Chamber of Commerce 742 West Main Bellville\, Texas 77418 Please RSVP by Monday\,September 12\, 2016 by emailing info@bellville.com
UID:e.2500.1745
SEQUENCE:3
DTSTAMP:20260424T094026Z
URL:https://business.bellville.com/events/details/cancelled-networking-night-out-1745
END:VEVENT

END:VCALENDAR
