BEGIN:VCALENDAR
VERSION:2.0
PRODID:-//ChamberMaster//Event Calendar 2.0//EN
METHOD:PUBLISH
X-PUBLISHED-TTL:P3D
REFRESH-INTERVAL:P3D
CALSCALE:GREGORIAN
BEGIN:VEVENT
DTSTART:20170421T000000Z
DTEND:20170421T013000Z
X-MICROSOFT-CDO-ALLDAYEVENT:FALSE
SUMMARY:CALLING ALL POETS! THE SECOND OPEN MIC POETRY NIGHT
DESCRIPTION:CALLING ALL POETS! THE SECOND OPEN MIC POETRY NIGHT APRIL 20\, 2017 7:00 PM ROUND TOP FAMILY LIBRARY 206 West Mill Street Round Top\, TX 78954 April is National Poetry Month\, come read one of your poems aloud. Open to youth and adult poets\, emerging and established writers. Community\, please show your support by attending this free\, fun event back by popular demand. There will be a reception to follow the readings. Poets\, please contact Laura Guidry at phone: 713-408-6411 or email: lqguidry@hotmail.com to sign up.
X-ALT-DESC;FMTTYPE=text/html:CALLING ALL POETS! THE SECOND OPEN MIC POETRY NIGHT APRIL 20\, 2017 7:00 PM ROUND TOP FAMILY LIBRARY 206 West Mill Street Round Top\, TX 78954 April is National Poetry Month\, come read one of your poems aloud. Open to youth and adult poets\, emerging and established writers. Community\, please show your support by attending this free\, fun event back by popular demand. There will be a reception to follow the readings. Poets\, please contact Laura Guidry at phone: 713-408-6411 or email: lqguidry@hotmail.com to sign up.
LOCATION:ROUND TOP FAMILY LIBRARY 206 West Mill Street Round Top\, TX 78954
UID:e.2500.3206
SEQUENCE:3
DTSTAMP:20260424T001903Z
URL:https://business.bellville.com/events/details/calling-all-poets-the-second-open-mic-poetry-night-3206
END:VEVENT

END:VCALENDAR
