BEGIN:VCALENDAR
VERSION:2.0
PRODID:-//ChamberMaster//Event Calendar 2.0//EN
METHOD:PUBLISH
X-PUBLISHED-TTL:P3D
REFRESH-INTERVAL:P3D
CALSCALE:GREGORIAN
BEGIN:VEVENT
DTSTART:20180429T173000Z
DTEND:20180429T203000Z
X-MICROSOFT-CDO-ALLDAYEVENT:FALSE
SUMMARY:Cajun Fest at The Kenney Store
DESCRIPTION:All You Can Eat CRAWFISH\n\nAdvance Tickets Only $35 @ www.thekenneystore.com\n\n \n\nLive Music By Wayne Thibodeaux
X-ALT-DESC;FMTTYPE=text/html:<div>All You Can Eat CRAWFISH<br />\nAdvance Tickets Only $35 @ www.thekenneystore.com</div>\n\n<div>&nbsp\;</div>\n\n<div>Live Music By Wayne Thibodeaux</div>\n
LOCATION:
UID:e.2500.3757
SEQUENCE:3
DTSTAMP:20260423T033646Z
URL:https://business.bellville.com/events/details/cajun-fest-at-the-kenney-store-3757
END:VEVENT

END:VCALENDAR
