BEGIN:VCALENDAR
VERSION:2.0
PRODID:-//ChamberMaster//Event Calendar 2.0//EN
METHOD:PUBLISH
X-PUBLISHED-TTL:P3D
REFRESH-INTERVAL:P3D
CALSCALE:GREGORIAN
BEGIN:VEVENT
DTSTART:20160131T190000Z
DTEND:20160131T230000Z
X-MICROSOFT-CDO-ALLDAYEVENT:FALSE
SUMMARY:Bridal open house at Buffalo Creek Wedding and Entertainment Venue
DESCRIPTION:Infused with rustic elegance\, Buffalo Creek is the perfect place for your exquisite\, countryside wedding. Located in the quaint town of Bellville\, (just a short drive west of Houston) our many amenities await you.  Elegant 7\,400 sq. ft. facility on 85 acres - 200' walkway to our new lakefront wedding gazebo - Fabulous sunsets overlooking a 5 acre lake - Three separate gathering areas - Two huge Austin stone bars - Three gorgeous fireplaces Tour our venue\, meet our vendors and sip a glass of wine by one of our three fireplaces. No charge to attend but please RSVP http://buffalocreekbellville.ticketleap.com/open-house/
X-ALT-DESC;FMTTYPE=text/html:Infused with rustic elegance\, Buffalo Creek is the perfect place for your exquisite\, countryside wedding. Located in the quaint town of Bellville\, (just a short drive west of Houston) our many amenities await you.&nbsp\; Elegant 7\,400 sq. ft. facility on 85 acres&nbsp\;- 200&#39\; walkway to our new lakefront wedding gazebo&nbsp\;- Fabulous sunsets overlooking a 5 acre lake&nbsp\;- Three separate gathering areas&nbsp\;- Two huge Austin stone bars&nbsp\;- Three gorgeous fireplaces Tour our venue\, meet our vendors and sip a glass of wine by one of our three fireplaces. No charge to attend but please RSVP http://buffalocreekbellville.ticketleap.com/open-house/
LOCATION:10827 Hwy 36 S. Bellville\, TX between Bellville and Sealy
UID:e.2500.554
SEQUENCE:3
DTSTAMP:20260425T000717Z
URL:https://business.bellville.com/events/details/bridal-open-house-at-buffalo-creek-wedding-and-entertainment-venue-01-31-2016-554
END:VEVENT

END:VCALENDAR
