BEGIN:VCALENDAR
VERSION:2.0
PRODID:-//ChamberMaster//Event Calendar 2.0//EN
METHOD:PUBLISH
X-PUBLISHED-TTL:P3D
REFRESH-INTERVAL:P3D
CALSCALE:GREGORIAN
BEGIN:VEVENT
DTSTART:20161002T180000Z
DTEND:20161002T220000Z
X-MICROSOFT-CDO-ALLDAYEVENT:FALSE
SUMMARY:Bridal Open House
DESCRIPTION:Calling all Brides looking to meet some great wedding vendors! A drawing is to be held you won't want to miss!
X-ALT-DESC;FMTTYPE=text/html:Calling all Brides looking to meet some great wedding vendors! A drawing is to be held you won&#39\;t want to miss!
LOCATION:Emery's Buffalo Creek
UID:e.2500.1771
SEQUENCE:3
DTSTAMP:20260424T084109Z
URL:https://business.bellville.com/events/details/bridal-open-house-1771
END:VEVENT

END:VCALENDAR
