BEGIN:VCALENDAR
VERSION:2.0
PRODID:-//ChamberMaster//Event Calendar 2.0//EN
METHOD:PUBLISH
X-PUBLISHED-TTL:P3D
REFRESH-INTERVAL:P3D
CALSCALE:GREGORIAN
BEGIN:VEVENT
DTSTART:20180511T230000Z
DTEND:20180512T020000Z
X-MICROSOFT-CDO-ALLDAYEVENT:FALSE
SUMMARY:Brew Crawl on the Square in Downtown Bellville
DESCRIPTION:Crawfish & BBQ\n\nCraft & Domestic Beer\n\nLive Music\n\nShopping
X-ALT-DESC;FMTTYPE=text/html:Crawfish &amp\; BBQ<br />\nCraft &amp\; Domestic Beer<br />\nLive Music<br />\nShopping
LOCATION:On the Square Bellville TX
UID:e.2500.5970
SEQUENCE:3
DTSTAMP:20260423T014902Z
URL:https://business.bellville.com/events/details/brew-crawl-on-the-square-in-downtown-bellville-5970
END:VEVENT

END:VCALENDAR
