BEGIN:VCALENDAR
VERSION:2.0
PRODID:-//ChamberMaster//Event Calendar 2.0//EN
METHOD:PUBLISH
X-PUBLISHED-TTL:P3D
REFRESH-INTERVAL:P3D
CALSCALE:GREGORIAN
BEGIN:VEVENT
DTSTART:20170204T223000Z
DTEND:20170205T004500Z
X-MICROSOFT-CDO-ALLDAYEVENT:FALSE
SUMMARY:Brahma Band Chicken Spaghetti Dinner
DESCRIPTION:
X-ALT-DESC;FMTTYPE=text/html:
LOCATION:
UID:e.2500.3180
SEQUENCE:3
DTSTAMP:20260424T015426Z
URL:https://business.bellville.com/events/details/brahma-band-chicken-spaghetti-dinner-3180
END:VEVENT

END:VCALENDAR
