BEGIN:VCALENDAR
VERSION:2.0
PRODID:-//ChamberMaster//Event Calendar 2.0//EN
METHOD:PUBLISH
X-PUBLISHED-TTL:P3D
REFRESH-INTERVAL:P3D
CALSCALE:GREGORIAN
BEGIN:VEVENT
DTSTART:20160325T210000Z
DTEND:20160326T040000Z
X-MICROSOFT-CDO-ALLDAYEVENT:FALSE
SUMMARY:Bonnie Bishop and Bri Bagwell at Buffalo Creek
DESCRIPTION:Buffalo Creek Wedding and Entertainment Venue invites you to join us Friday March 25th\, 2016 starting at 4:00 for a night filled with artistry from beginning to end. Craft beers\, art exhibit\, live music and crawfish prepared to perfection. We are excited about showcasing all of these different talents within our cozy venue.  Who says small towns are boring with nothing to do? Hopefully there will still be a little chill in the air so we can light up the fireplaces for some extra special ambiance. It's a busy night so join us early and stay late so you don't miss a thing. See below for prices and event schedule and invite your friends and family to join us.\n\n\nJoin us on Good Friday for this very special show with 2 amazing women. The evening starts off with Bonnie Bishop. In 2012\, Bonnie won her first Grammy for songwriting with "Not Cause I Wanted To"\, and recorded by blues legend\, Bonnie Raitt. Then Bri Bagwell and The Banned take the stage for a full set\, also. This is going to be an outstanding night of great music taking place on our new 6000 sq ft outdoor lighted entertainment area\, complete with a crawfish boil and Art Show!
X-ALT-DESC;FMTTYPE=text/html:<p style="margin: 0in 0in 0pt\;"><span style="font-family: arial\;"><a href="http://www.buffalocreekevents.com/"><font color="#0000ff" size="3">Buffalo Creek Wedding and Entertainment Venue</font></a><font color="#000000" size="3"> invites you to join us </font><b><font color="#000000" size="3">Friday March 25th\, 2016 starting at 4:00</font></b><font color="#000000" size="3"> for a night filled with artistry from beginning to end. Craft beers\, art exhibit\, live music and crawfish prepared to perfection. We are excited about showcasing all of these different talents within our cozy venue.&nbsp\; Who says small towns are boring with nothing to do? Hopefully there will still be a little chill in the air so we can light up the fireplaces for some extra special ambiance. It&#39\;s a busy night so join us early and stay late so you don&#39\;t miss a thing. See below for prices and event schedule and invite your friends and family to join us.</font></span></p>\n<br />\nJoin us on Good Friday for this very special show with 2 amazing women. The evening starts off with Bonnie Bishop. In 2012\, Bonnie won her first Grammy for songwriting with &quot\;Not Cause I Wanted To&quot\;\, and recorded by blues legend\, Bonnie Raitt. Then Bri Bagwell and The Banned take the stage for a full set\, also. This is going to be an outstanding night of great music taking place on our new 6000 sq ft outdoor lighted entertainment area\, complete with a crawfish boil and Art Show!
LOCATION:10827 Hwy 36 Bellville between Sealy and Bellville
UID:e.2500.968
SEQUENCE:3
DTSTAMP:20260424T192336Z
URL:https://business.bellville.com/events/details/bonnie-bishop-and-bri-bagwell-at-buffalo-creek-03-25-2016-968
END:VEVENT

END:VCALENDAR
