BEGIN:VCALENDAR
VERSION:2.0
PRODID:-//ChamberMaster//Event Calendar 2.0//EN
METHOD:PUBLISH
X-PUBLISHED-TTL:P3D
REFRESH-INTERVAL:P3D
CALSCALE:GREGORIAN
BEGIN:VEVENT
DTSTART:20190210T190000Z
DTEND:20190210T220000Z
X-MICROSOFT-CDO-ALLDAYEVENT:FALSE
SUMMARY:Blues and Booze @ The Kenney Store
DESCRIPTION:LIVE MUSIC\n\nFree Admission
X-ALT-DESC;FMTTYPE=text/html:<span style="font-size:16px\;"><em><strong>LIVE MUSIC</strong></em></span><br />\nFree Admission<br />\n&nbsp\;
LOCATION:
UID:e.2500.7260
SEQUENCE:3
DTSTAMP:20260422T121054Z
URL:https://business.bellville.com/events/details/blues-and-booze-the-kenney-store-7260
END:VEVENT

END:VCALENDAR
