BEGIN:VCALENDAR
VERSION:2.0
PRODID:-//ChamberMaster//Event Calendar 2.0//EN
METHOD:PUBLISH
X-PUBLISHED-TTL:P3D
REFRESH-INTERVAL:P3D
CALSCALE:GREGORIAN
BEGIN:VEVENT
DTSTART:20180419T223000Z
DTEND:20180420T020000Z
X-MICROSOFT-CDO-ALLDAYEVENT:FALSE
SUMMARY:Bluebonney Opry @ Silver Wings Ballroom
DESCRIPTION:Featuring:\n\nHaylie Bagwell\n\nEd Gary\n\nLynn Landry\n\n\n\n$7 PER PERSON\n\nProceeds benefit Hospice Brazos Valley
X-ALT-DESC;FMTTYPE=text/html:Featuring:<br />\nHaylie Bagwell<br />\nEd Gary<br />\nLynn Landry<br />\n<br />\n<strong>$7 PER PERSON</strong><br />\nProceeds benefit Hospice Brazos Valley
LOCATION:
UID:e.2500.3722
SEQUENCE:3
DTSTAMP:20260423T034120Z
URL:https://business.bellville.com/events/details/bluebonney-opry-silver-wings-ballroom-3722
END:VEVENT

END:VCALENDAR
