BEGIN:VCALENDAR
VERSION:2.0
PRODID:-//ChamberMaster//Event Calendar 2.0//EN
METHOD:PUBLISH
X-PUBLISHED-TTL:P3D
REFRESH-INTERVAL:P3D
CALSCALE:GREGORIAN
BEGIN:VEVENT
DTSTART:20180315T223000Z
DTEND:20180316T023000Z
X-MICROSOFT-CDO-ALLDAYEVENT:FALSE
SUMMARY:Bluebonnet Opry @ Silver Wings Ballroom
DESCRIPTION:Featuring\n\nAllison Crowson\n\nNeil Kulhanek\n\nCody Rhodes
X-ALT-DESC;FMTTYPE=text/html:<div>Featuring</div>\n\n<div>Allison Crowson</div>\n\n<div>Neil Kulhanek</div>\n\n<div>Cody Rhodes</div>\n
LOCATION:Silver Wings Ballroom 4100 Hwy 105 Brenham TX 77833
UID:e.2500.3754
SEQUENCE:3
DTSTAMP:20260423T053114Z
URL:https://business.bellville.com/events/details/bluebonnet-opry-silver-wings-ballroom-3754
END:VEVENT

END:VCALENDAR
