BEGIN:VCALENDAR
VERSION:2.0
PRODID:-//ChamberMaster//Event Calendar 2.0//EN
METHOD:PUBLISH
X-PUBLISHED-TTL:P3D
REFRESH-INTERVAL:P3D
CALSCALE:GREGORIAN
BEGIN:VEVENT
DTSTART:20170721T003000Z
DTEND:20170721T023000Z
X-MICROSOFT-CDO-ALLDAYEVENT:FALSE
SUMMARY:Bluebonnet Opry @ Silver Wings Ballroom
DESCRIPTION:Featuring\n\nCody Rhodes\n\nWyatt Aleman\n\nAmanda Peevler
X-ALT-DESC;FMTTYPE=text/html:<strong>Featuring</strong><br />\nCody Rhodes<br />\nWyatt Aleman<br />\nAmanda Peevler
LOCATION:Silver Wings Ballroom 4100 Hwy 105 Brenham\, TX 77833
UID:e.2500.3569
SEQUENCE:3
DTSTAMP:20260423T192309Z
URL:https://business.bellville.com/events/details/bluebonnet-opry-silver-wings-ballroom-3569
END:VEVENT

END:VCALENDAR
