BEGIN:VCALENDAR
VERSION:2.0
PRODID:-//ChamberMaster//Event Calendar 2.0//EN
METHOD:PUBLISH
X-PUBLISHED-TTL:P3D
REFRESH-INTERVAL:P3D
CALSCALE:GREGORIAN
BEGIN:VEVENT
DTSTART:20180118T233000Z
DTEND:20180119T033000Z
X-MICROSOFT-CDO-ALLDAYEVENT:FALSE
SUMMARY:Bluebonnet Opry presents - Sister Sue\, Sean Orr and Frank Cavitt
DESCRIPTION:Proceeds benefit Hospice Brazos Valley
X-ALT-DESC;FMTTYPE=text/html:Proceeds benefit Hospice Brazos Valley
LOCATION:Silver Wings Ballroon 4100 Highway 105 Brenham TX 77833
UID:e.2500.3712
SEQUENCE:3
DTSTAMP:20260423T090729Z
URL:https://business.bellville.com/events/details/bluebonnet-opry-presents-sister-sue-sean-orr-and-frank-cavitt-3712
END:VEVENT

END:VCALENDAR
