BEGIN:VCALENDAR
VERSION:2.0
PRODID:-//ChamberMaster//Event Calendar 2.0//EN
METHOD:PUBLISH
X-PUBLISHED-TTL:P3D
REFRESH-INTERVAL:P3D
CALSCALE:GREGORIAN
BEGIN:VEVENT
DTSTART:20180517T223000Z
DTEND:20180518T023000Z
X-MICROSOFT-CDO-ALLDAYEVENT:FALSE
SUMMARY:Bluebonnet Opry - Polka Show
DESCRIPTION:
X-ALT-DESC;FMTTYPE=text/html:
LOCATION:Silver Wings Ballroom Brenham TX 77833
UID:e.2500.6583
SEQUENCE:3
DTSTAMP:20260423T014729Z
URL:https://business.bellville.com/events/details/bluebonnet-opry-polka-show-6583
END:VEVENT

END:VCALENDAR
