BEGIN:VCALENDAR
VERSION:2.0
PRODID:-//ChamberMaster//Event Calendar 2.0//EN
METHOD:PUBLISH
X-PUBLISHED-TTL:P3D
REFRESH-INTERVAL:P3D
CALSCALE:GREGORIAN
BEGIN:VEVENT
DTSTART:20190117T233000Z
DTEND:20190118T033000Z
X-MICROSOFT-CDO-ALLDAYEVENT:FALSE
SUMMARY:Bluebonnet Opry
DESCRIPTION:Featuring\n\nWyatt Aleman\n\nKeith Junot\n\nWayne Thibodeaux
X-ALT-DESC;FMTTYPE=text/html:<strong>Featuring</strong><br />\nWyatt Aleman<br />\nKeith Junot<br />\nWayne Thibodeaux
LOCATION:Silver Wings Ballroom Brenham TX 77833
UID:e.2500.7024
SEQUENCE:3
DTSTAMP:20260422T120546Z
URL:https://business.bellville.com/events/details/bluebonnet-opry-7024
END:VEVENT

END:VCALENDAR
