BEGIN:VCALENDAR
VERSION:2.0
PRODID:-//ChamberMaster//Event Calendar 2.0//EN
METHOD:PUBLISH
X-PUBLISHED-TTL:P3D
REFRESH-INTERVAL:P3D
CALSCALE:GREGORIAN
BEGIN:VEVENT
DTSTART:20181220T233000Z
DTEND:20181221T033000Z
X-MICROSOFT-CDO-ALLDAYEVENT:FALSE
SUMMARY:Bluebonnet Opry
DESCRIPTION:Featuring\n\nDavid Lewis\n\nD'Vine Testament\n\nMyra Rolen
X-ALT-DESC;FMTTYPE=text/html:<strong>Featuring</strong><br />\nDavid Lewis<br />\nD&#39\;Vine Testament<br />\nMyra Rolen
LOCATION:Silver Wings Ballroom Brenham TX 77833
UID:e.2500.6983
SEQUENCE:3
DTSTAMP:20260422T135311Z
URL:https://business.bellville.com/events/details/bluebonnet-opry-6983
END:VEVENT

END:VCALENDAR
