BEGIN:VCALENDAR
VERSION:2.0
PRODID:-//ChamberMaster//Event Calendar 2.0//EN
METHOD:PUBLISH
X-PUBLISHED-TTL:P3D
REFRESH-INTERVAL:P3D
CALSCALE:GREGORIAN
BEGIN:VEVENT
DTSTART:20181115T233000Z
DTEND:20181116T033000Z
X-MICROSOFT-CDO-ALLDAYEVENT:FALSE
SUMMARY:Bluebonnet Opry
DESCRIPTION:Featuring\n\nDebbi Davis\n\nTaylor Kubos\n\nBryan Su
X-ALT-DESC;FMTTYPE=text/html:<strong>Featuring</strong><br />\nDebbi Davis<br />\nTaylor Kubos<br />\nBryan Su
LOCATION:Silver Wings Ballroom Brenham TX 77833
UID:e.2500.6982
SEQUENCE:3
DTSTAMP:20260422T155305Z
URL:https://business.bellville.com/events/details/bluebonnet-opry-6982
END:VEVENT

END:VCALENDAR
