BEGIN:VCALENDAR
VERSION:2.0
PRODID:-//ChamberMaster//Event Calendar 2.0//EN
METHOD:PUBLISH
X-PUBLISHED-TTL:P3D
REFRESH-INTERVAL:P3D
CALSCALE:GREGORIAN
BEGIN:VEVENT
DTSTART:20181018T223000Z
DTEND:20181019T023000Z
X-MICROSOFT-CDO-ALLDAYEVENT:FALSE
SUMMARY:Bluebonnet Opry
DESCRIPTION:Featuring\n\nCzechaholics\n\nBrian Marshall\n\nAlfred Vrazel
X-ALT-DESC;FMTTYPE=text/html:Featuring<br />\nCzechaholics<br />\nBrian Marshall<br />\nAlfred Vrazel
LOCATION:Silver Wings Ballroom Brenham TX 77833
UID:e.2500.6964
SEQUENCE:3
DTSTAMP:20260422T171837Z
URL:https://business.bellville.com/events/details/bluebonnet-opry-6964
END:VEVENT

END:VCALENDAR
