BEGIN:VCALENDAR
VERSION:2.0
PRODID:-//ChamberMaster//Event Calendar 2.0//EN
METHOD:PUBLISH
X-PUBLISHED-TTL:P3D
REFRESH-INTERVAL:P3D
CALSCALE:GREGORIAN
BEGIN:VEVENT
DTSTART:20180621T223000Z
DTEND:20180622T023000Z
X-MICROSOFT-CDO-ALLDAYEVENT:FALSE
SUMMARY:Bluebonnet Opry
DESCRIPTION:Featuring - David Lewis\n\n                   Jack Phillips\n\n                   Amanda Peevler
X-ALT-DESC;FMTTYPE=text/html:<strong>Featuring - David Lewis<br />\n&nbsp\;&nbsp\;&nbsp\;&nbsp\;&nbsp\;&nbsp\;&nbsp\;&nbsp\;&nbsp\;&nbsp\;&nbsp\;&nbsp\;&nbsp\;&nbsp\;&nbsp\;&nbsp\;&nbsp\;&nbsp\; Jack Phillips<br />\n&nbsp\;&nbsp\;&nbsp\;&nbsp\;&nbsp\;&nbsp\;&nbsp\;&nbsp\;&nbsp\;&nbsp\;&nbsp\;&nbsp\;&nbsp\;&nbsp\;&nbsp\;&nbsp\;&nbsp\;&nbsp\; Amanda Peevler</strong>
LOCATION:Silver Wings Ballroom Brenham TX
UID:e.2500.6582
SEQUENCE:3
DTSTAMP:20260423T000114Z
URL:https://business.bellville.com/events/details/bluebonnet-opry-6582
END:VEVENT

END:VCALENDAR
