BEGIN:VCALENDAR
VERSION:2.0
PRODID:-//ChamberMaster//Event Calendar 2.0//EN
METHOD:PUBLISH
X-PUBLISHED-TTL:P3D
REFRESH-INTERVAL:P3D
CALSCALE:GREGORIAN
BEGIN:VEVENT
DTSTART:20171221T233000Z
DTEND:20171222T030000Z
X-MICROSOFT-CDO-ALLDAYEVENT:FALSE
SUMMARY:Bluebonnet Opry
DESCRIPTION:Terry Lynn Moore\n\nTaylor Kubos\n\nRay Goodwin\n\n\n\nProceeds benefit Hospice Brazos Valley
X-ALT-DESC;FMTTYPE=text/html:Terry Lynn Moore<br>\nTaylor Kubos<br>\nRay Goodwin<br>\n<br>\nProceeds benefit Hospice Brazos Valley
LOCATION:Silver Wings Ballroom Brenham\, TX
UID:e.2500.3693
SEQUENCE:3
DTSTAMP:20260423T113852Z
URL:https://business.bellville.com/events/details/bluebonnet-opry-3693
END:VEVENT

END:VCALENDAR
